BEGIN:VCALENDAR
VERSION:2.0
BEGIN:VEVENT
DTSTART:20210216T054500Z
DTEND:20210216T073000Z
SUMMARY:Homeviews for New Buyers FREE Mock Auction Workshop
DESCRIPTION:Real estate tips and tools for new buyers - live mock auction!
LOCATION:Devonport Library, 2 Victoria Road, Devonport, Auckland, 6024, New Zealand
END:VEVENT
END:VCALENDAR